BEGIN:VCALENDAR
VERSION:2.0
PRODID:-//Kirton in Lindsey Society - ECPv5.3.0//NONSGML v1.0//EN
CALSCALE:GREGORIAN
METHOD:PUBLISH
X-WR-CALNAME:Kirton in Lindsey Society
X-ORIGINAL-URL:https://www.kirtoninlindseysociety.org.uk
X-WR-CALDESC:Events for Kirton in Lindsey Society
BEGIN:VTIMEZONE
TZID:Europe/London
BEGIN:DAYLIGHT
TZOFFSETFROM:+0000
TZOFFSETTO:+0100
TZNAME:BST
DTSTART:20220327T010000
END:DAYLIGHT
BEGIN:STANDARD
TZOFFSETFROM:+0100
TZOFFSETTO:+0000
TZNAME:GMT
DTSTART:20221030T010000
END:STANDARD
END:VTIMEZONE
BEGIN:VEVENT
DTSTART;TZID=Europe/London:20220723T140000
DTEND;TZID=Europe/London:20220723T160000
DTSTAMP:20260424T011335
CREATED:20200302T154552Z
LAST-MODIFIED:20210904T112054Z
UID:1028-1658584800-1658592000@www.kirtoninlindseysociety.org.uk
SUMMARY:Visit to The Post Mill at Wrawby
DESCRIPTION:Wrawby Post Mill sits high on a hill in the North Lincolnshire village of Wrawby\, on the edge of the Lincolnshire Wolds and overlooking the Ancholme valley and nearby market town of Brigg. The Postmill is an example of an early type of windmill that was once common across the UK. There are now less than 45 surviving examples with even fewer being fully operational. \nThere is no charge for this visit but donations are very welcome. BOOKING REQUIRED. \nThere is a small shop there.
URL:https://www.kirtoninlindseysociety.org.uk/event/visit-to-the-post-mill-at-wrawby/
LOCATION:Wrawby Windmill\, DN20 8SR\, United Kingdom
END:VEVENT
END:VCALENDAR