BEGIN:VCALENDAR
VERSION:2.0
PRODID:-//Kirton in Lindsey Society - ECPv5.3.0//NONSGML v1.0//EN
CALSCALE:GREGORIAN
METHOD:PUBLISH
X-WR-CALNAME:Kirton in Lindsey Society
X-ORIGINAL-URL:https://www.kirtoninlindseysociety.org.uk
X-WR-CALDESC:Events for Kirton in Lindsey Society
BEGIN:VTIMEZONE
TZID:Europe/London
BEGIN:DAYLIGHT
TZOFFSETFROM:+0000
TZOFFSETTO:+0100
TZNAME:BST
DTSTART:20230326T010000
END:DAYLIGHT
BEGIN:STANDARD
TZOFFSETFROM:+0100
TZOFFSETTO:+0000
TZNAME:GMT
DTSTART:20231029T010000
END:STANDARD
END:VTIMEZONE
BEGIN:VEVENT
DTSTART;TZID=Europe/London:20230715T103000
DTEND;TZID=Europe/London:20230715T120000
DTSTAMP:20260423T054857
CREATED:20230113T120752Z
LAST-MODIFIED:20230113T120752Z
UID:1306-1689417000-1689422400@www.kirtoninlindseysociety.org.uk
SUMMARY:Visit to Stow Minster
DESCRIPTION:Many visitors ask how it is that such a large church is to be found in such a small village. Though Stow may have been rather larger than it is now\, it was always a rural place. Yet it was also the centre of a large block of estates\, belonging to the Saxon bishops of Dorchester on Thames. So\, it was here that Bishop Aelfnoth\, in about 975\, built a church to serve\, it seems\, as head Minster (or mother church) for the Lincolnshire part of his large diocese. It was a sort of cathedral\, because part of the bishop’s household of priests (which later became the cathedral chapter) lived at Stow and administered this part of the diocese. The memory of this period gave rise to the tradition that Stow was the Mother Church of Lincoln Cathedral.
URL:https://www.kirtoninlindseysociety.org.uk/event/visit-to-stow-minster/
LOCATION:Stow Minster\, LN1 2DE
END:VEVENT
END:VCALENDAR