BEGIN:VCALENDAR
VERSION:2.0
PRODID:-//Kirton in Lindsey Society - ECPv5.3.0//NONSGML v1.0//EN
CALSCALE:GREGORIAN
METHOD:PUBLISH
X-WR-CALNAME:Kirton in Lindsey Society
X-ORIGINAL-URL:https://www.kirtoninlindseysociety.org.uk
X-WR-CALDESC:Events for Kirton in Lindsey Society
BEGIN:VTIMEZONE
TZID:Europe/London
BEGIN:DAYLIGHT
TZOFFSETFROM:+0000
TZOFFSETTO:+0100
TZNAME:BST
DTSTART:20240331T010000
END:DAYLIGHT
BEGIN:STANDARD
TZOFFSETFROM:+0100
TZOFFSETTO:+0000
TZNAME:GMT
DTSTART:20241027T010000
END:STANDARD
END:VTIMEZONE
BEGIN:VEVENT
DTSTART;TZID=Europe/London:20240227T193000
DTEND;TZID=Europe/London:20240227T213000
DTSTAMP:20260422T170119
CREATED:20231119T123121Z
LAST-MODIFIED:20231119T123121Z
UID:1369-1709062200-1709069400@www.kirtoninlindseysociety.org.uk
SUMMARY:Vikings in Lincolnshire
DESCRIPTION:Dr. Erik Grigg will give an illustrated talk on how the ‘fearsome’ Vikings shaped Lincolnshire. He will examine the evidence and look at their legacy in the county. \n \n 
URL:https://www.kirtoninlindseysociety.org.uk/event/vikings-in-lincolnshire/
LOCATION:Kirton in Lindsey Town Hall\, Kirton in Lindsey\, Gainsborough\, DN21 4LZ
END:VEVENT
END:VCALENDAR