BEGIN:VCALENDAR
VERSION:2.0
PRODID:-//Kirton in Lindsey Society - ECPv5.3.0//NONSGML v1.0//EN
CALSCALE:GREGORIAN
METHOD:PUBLISH
X-WR-CALNAME:Kirton in Lindsey Society
X-ORIGINAL-URL:https://www.kirtoninlindseysociety.org.uk
X-WR-CALDESC:Events for Kirton in Lindsey Society
BEGIN:VTIMEZONE
TZID:Europe/London
BEGIN:DAYLIGHT
TZOFFSETFROM:+0000
TZOFFSETTO:+0100
TZNAME:BST
DTSTART:20240331T010000
END:DAYLIGHT
BEGIN:STANDARD
TZOFFSETFROM:+0100
TZOFFSETTO:+0000
TZNAME:GMT
DTSTART:20241027T010000
END:STANDARD
END:VTIMEZONE
BEGIN:VEVENT
DTSTART;TZID=Europe/London:20240123T193000
DTEND;TZID=Europe/London:20240123T213000
DTSTAMP:20260422T202324
CREATED:20231119T121808Z
LAST-MODIFIED:20231119T121808Z
UID:1363-1706038200-1706045400@www.kirtoninlindseysociety.org.uk
SUMMARY:The Shiny Stuff: gold & gold working
DESCRIPTION:Perennial favourite Dr Kevin Leahy returns to talk about the use of gold in medieval times. \n   \n \n \n 
URL:https://www.kirtoninlindseysociety.org.uk/event/the-shiny-stuff-gold-gold-working/
LOCATION:Kirton in Lindsey Town Hall\, Kirton in Lindsey\, Gainsborough\, DN21 4LZ
END:VEVENT
END:VCALENDAR