BEGIN:VCALENDAR
VERSION:2.0
PRODID:-//Kirton in Lindsey Society - ECPv5.3.0//NONSGML v1.0//EN
CALSCALE:GREGORIAN
METHOD:PUBLISH
X-WR-CALNAME:Kirton in Lindsey Society
X-ORIGINAL-URL:https://www.kirtoninlindseysociety.org.uk
X-WR-CALDESC:Events for Kirton in Lindsey Society
BEGIN:VTIMEZONE
TZID:Europe/London
BEGIN:DAYLIGHT
TZOFFSETFROM:+0000
TZOFFSETTO:+0100
TZNAME:BST
DTSTART:20220327T010000
END:DAYLIGHT
BEGIN:STANDARD
TZOFFSETFROM:+0100
TZOFFSETTO:+0000
TZNAME:GMT
DTSTART:20221030T010000
END:STANDARD
END:VTIMEZONE
BEGIN:VEVENT
DTSTART;TZID=Europe/London:20221025T193000
DTEND;TZID=Europe/London:20221025T213000
DTSTAMP:20260423T183712
CREATED:20220902T092312Z
LAST-MODIFIED:20220902T092312Z
UID:1253-1666726200-1666733400@www.kirtoninlindseysociety.org.uk
SUMMARY:The River Witham and its Navigation
DESCRIPTION:A trip along Lincolnshire’s main river with Rob Wheeler. He will take us on a trip back in time to find out how the river became an important waterway.
URL:https://www.kirtoninlindseysociety.org.uk/event/the-river-witham-and-its-navigation/
LOCATION:Kirton in Lindsey Town Hall\, Kirton in Lindsey\, Gainsborough\, DN21 4LZ
END:VEVENT
END:VCALENDAR