BEGIN:VCALENDAR
VERSION:2.0
PRODID:-//Kirton in Lindsey Society - ECPv5.3.0//NONSGML v1.0//EN
CALSCALE:GREGORIAN
METHOD:PUBLISH
X-WR-CALNAME:Kirton in Lindsey Society
X-ORIGINAL-URL:https://www.kirtoninlindseysociety.org.uk
X-WR-CALDESC:Events for Kirton in Lindsey Society
BEGIN:VTIMEZONE
TZID:Europe/London
BEGIN:DAYLIGHT
TZOFFSETFROM:+0000
TZOFFSETTO:+0100
TZNAME:BST
DTSTART:20230326T010000
END:DAYLIGHT
BEGIN:STANDARD
TZOFFSETFROM:+0100
TZOFFSETTO:+0000
TZNAME:GMT
DTSTART:20231029T010000
END:STANDARD
END:VTIMEZONE
BEGIN:VEVENT
DTSTART;TZID=Europe/London:20230523T193000
DTEND;TZID=Europe/London:20230523T213000
DTSTAMP:20260423T085820
CREATED:20220902T163921Z
LAST-MODIFIED:20220902T163921Z
UID:1282-1684870200-1684877400@www.kirtoninlindseysociety.org.uk
SUMMARY:Flight of Disaster
DESCRIPTION:The story of the R38 airship disaster. Michelle Beadle relates the facts and details of the accident over the River Humber in 1921. \n     
URL:https://www.kirtoninlindseysociety.org.uk/event/flight-of-disaster/
LOCATION:Kirton in Lindsey Town Hall\, Kirton in Lindsey\, Gainsborough\, DN21 4LZ
END:VEVENT
END:VCALENDAR