BEGIN:VCALENDAR
VERSION:2.0
PRODID:-//Kirton in Lindsey Society - ECPv5.3.0//NONSGML v1.0//EN
CALSCALE:GREGORIAN
METHOD:PUBLISH
X-WR-CALNAME:Kirton in Lindsey Society
X-ORIGINAL-URL:https://www.kirtoninlindseysociety.org.uk
X-WR-CALDESC:Events for Kirton in Lindsey Society
BEGIN:VTIMEZONE
TZID:Europe/London
BEGIN:DAYLIGHT
TZOFFSETFROM:+0000
TZOFFSETTO:+0100
TZNAME:BST
DTSTART:20240331T010000
END:DAYLIGHT
BEGIN:STANDARD
TZOFFSETFROM:+0100
TZOFFSETTO:+0000
TZNAME:GMT
DTSTART:20241027T010000
END:STANDARD
END:VTIMEZONE
BEGIN:VEVENT
DTSTART;TZID=Europe/London:20240128T120000
DTEND;TZID=Europe/London:20240128T160000
DTSTAMP:20260422T184044
CREATED:20231119T122345Z
LAST-MODIFIED:20231119T122345Z
UID:1367-1706443200-1706457600@www.kirtoninlindseysociety.org.uk
SUMMARY:Annual Dinner/Meal
DESCRIPTION:Meet at Hemswell Court\, Hemswell Cliff at 12.00pm for 12.30pm sit down. \nBOOKING ESSENTIAL
URL:https://www.kirtoninlindseysociety.org.uk/event/annual-dinner-meal/
LOCATION:Cleatham Hall\, Cleatham\, North Lincolnshire\, DN21 4JS
ORGANIZER;CN="Martin%20Hollingsworth":MAILTO:m.hollingsworth205@btinternet.com
END:VEVENT
END:VCALENDAR