BEGIN:VCALENDAR
VERSION:2.0
PRODID:-//Kirton in Lindsey Society - ECPv5.3.0//NONSGML v1.0//EN
CALSCALE:GREGORIAN
METHOD:PUBLISH
X-WR-CALNAME:Kirton in Lindsey Society
X-ORIGINAL-URL:https://www.kirtoninlindseysociety.org.uk
X-WR-CALDESC:Events for Kirton in Lindsey Society
BEGIN:VTIMEZONE
TZID:Europe/London
BEGIN:DAYLIGHT
TZOFFSETFROM:+0000
TZOFFSETTO:+0100
TZNAME:BST
DTSTART:20230326T010000
END:DAYLIGHT
BEGIN:STANDARD
TZOFFSETFROM:+0100
TZOFFSETTO:+0000
TZNAME:GMT
DTSTART:20231029T010000
END:STANDARD
END:VTIMEZONE
BEGIN:VEVENT
DTSTART;TZID=Europe/London:20231128T193000
DTEND;TZID=Europe/London:20231128T213000
DTSTAMP:20260422T231925
CREATED:20230807T150946Z
LAST-MODIFIED:20230807T150946Z
UID:1351-1701199800-1701207000@www.kirtoninlindseysociety.org.uk
SUMMARY:An Introduction to 19th Century Costume
DESCRIPTION:Social historian Janet Tierney will include garments from the period as well as an illustrated talk covering 100 years of change. \n  
URL:https://www.kirtoninlindseysociety.org.uk/event/an-introduction-to-19th-century-costume/
LOCATION:Kirton in Lindsey Town Hall\, Kirton in Lindsey\, Gainsborough\, DN21 4LZ
END:VEVENT
END:VCALENDAR