BEGIN:VCALENDAR
VERSION:2.0
PRODID:-//Kirton in Lindsey Society - ECPv5.3.0//NONSGML v1.0//EN
CALSCALE:GREGORIAN
METHOD:PUBLISH
X-WR-CALNAME:Kirton in Lindsey Society
X-ORIGINAL-URL:https://www.kirtoninlindseysociety.org.uk
X-WR-CALDESC:Events for Kirton in Lindsey Society
BEGIN:VTIMEZONE
TZID:Europe/London
BEGIN:DAYLIGHT
TZOFFSETFROM:+0000
TZOFFSETTO:+0100
TZNAME:BST
DTSTART:20220327T010000
END:DAYLIGHT
BEGIN:STANDARD
TZOFFSETFROM:+0100
TZOFFSETTO:+0000
TZNAME:GMT
DTSTART:20221030T010000
END:STANDARD
END:VTIMEZONE
BEGIN:VEVENT
DTSTART;TZID=Europe/London:20220927T193000
DTEND;TZID=Europe/London:20220927T213000
DTSTAMP:20260423T201536
CREATED:20220902T090538Z
LAST-MODIFIED:20220902T090538Z
UID:1251-1664307000-1664314200@www.kirtoninlindseysociety.org.uk
SUMMARY:AGM + A Kirton Miscellany
DESCRIPTION:After the AGM\, our Secretary Martin Hollingsworth will bring news of recent finds and acquisitions to the Society’s collections.
URL:https://www.kirtoninlindseysociety.org.uk/event/agm-a-kirton-miscellany/
LOCATION:Kirton in Lindsey Town Hall\, Kirton in Lindsey\, Gainsborough\, DN21 4LZ
END:VEVENT
END:VCALENDAR